BEGIN:VCALENDAR
VERSION:2.0
PRODID:-//TFK//Events//EN
BEGIN:VEVENT
UID:fb206d5fcc19d11c4b69e31e4963167b@ttematikfilateli.org
DTSTAMP:20260420T112411
DTSTART:20250927T090000
DTEND:20251005T190000
SUMMARY:İstanbul 2025 Milli Pul Sergisi
DESCRIPTION:
LOCATION:Rami Kışlası Kütüphanesi
END:VEVENT
END:VCALENDAR